BEGIN:VCALENDAR
VERSION:2.0
PRODID:-//Sabre//Sabre VObject 3.5.3//EN
CALSCALE:GREGORIAN
BEGIN:VTIMEZONE
TZID:Europe/London
BEGIN:STANDARD
TZNAME:GMT
DTSTART:19701025T020000
RRULE:FREQ=YEARLY;BYMONTH=10;BYDAY=-1SU
TZOFFSETFROM:+0100
TZOFFSETTO:+0000
END:STANDARD
BEGIN:DAYLIGHT
TZNAME:BST
DTSTART:19700329T010000
RRULE:FREQ=YEARLY;BYMONTH=3;BYDAY=-1SU
TZOFFSETFROM:+0000
TZOFFSETTO:+0100
END:DAYLIGHT
END:VTIMEZONE
BEGIN:VEVENT
UID:event_183421@g-s-o.org.uk
DTSTART;VALUE=DATE:20241015
DURATION:P1D
SUMMARY:GSO OPEN REHEARSAL
DESCRIPTION:For full event details\, visit: https://www.g-s-o.org.uk/dbpage
 .php?pg=view&dbase=events&id=183421
LOCATION:Queen Eleanor's Road\, Guildford\, Surrey\, GU2 7SD
URL:https://www.g-s-o.org.uk/dbpage.php?pg=view&dbase=events&id=183421
END:VEVENT
END:VCALENDAR
